BEGIN:VCALENDAR
VERSION:2.0
PRODID:-//Danish Society of Massachusetts - ECPv6.15.12.2//NONSGML v1.0//EN
CALSCALE:GREGORIAN
METHOD:PUBLISH
X-ORIGINAL-URL:https://www.danishsocietyma.org
X-WR-CALDESC:Events for Danish Society of Massachusetts
REFRESH-INTERVAL;VALUE=DURATION:PT1H
X-Robots-Tag:noindex
X-PUBLISHED-TTL:PT1H
BEGIN:VTIMEZONE
TZID:UTC
BEGIN:STANDARD
TZOFFSETFROM:+0000
TZOFFSETTO:+0000
TZNAME:UTC
DTSTART:20250101T000000
END:STANDARD
END:VTIMEZONE
BEGIN:VEVENT
DTSTART;TZID=UTC:20260114T120000
DTEND;TZID=UTC:20260114T160000
DTSTAMP:20260419T172905
CREATED:20251121T175020Z
LAST-MODIFIED:20260129T015113Z
UID:162-1768392000-1768406400@www.danishsocietyma.org
SUMMARY:Senior Sammenskudsfrokost
DESCRIPTION:Onsdag d. 14. januar hos Connie i Sudbury\, MA.  Detaljer følger senere
URL:https://www.danishsocietyma.org/event/senior-sammenskudsfrokost/
LOCATION:sudbury\, ma\, Sudbury\, Massachusetts\, 01776\, United States
END:VEVENT
BEGIN:VEVENT
DTSTART;TZID=UTC:20260124T120000
DTEND;TZID=UTC:20260124T150000
DTSTAMP:20260419T172905
CREATED:20251121T175901Z
LAST-MODIFIED:20251208T002706Z
UID:164-1769256000-1769266800@www.danishsocietyma.org
SUMMARY:Dansker Frokost i Western Mass
DESCRIPTION:Alle er velkomne! \n\n\n\nMeld dig til hos Charlotte eller bare mød opCharlotte Hansen <charlottehansen387@gmail.com>
URL:https://www.danishsocietyma.org/event/dansker-frokost-i-western-mass/
LOCATION:Restaurant 51 Park\, 51 Park Street\, Lee\, MA\, 01238
END:VEVENT
END:VCALENDAR