BEGIN:VCALENDAR
VERSION:2.0
PRODID:-//Danish Society of Massachusetts - ECPv6.15.12.2//NONSGML v1.0//EN
CALSCALE:GREGORIAN
METHOD:PUBLISH
X-WR-CALNAME:Danish Society of Massachusetts
X-ORIGINAL-URL:https://www.danishsocietyma.org
X-WR-CALDESC:Events for Danish Society of Massachusetts
REFRESH-INTERVAL;VALUE=DURATION:PT1H
X-Robots-Tag:noindex
X-PUBLISHED-TTL:PT1H
BEGIN:VTIMEZONE
TZID:America/New_York
BEGIN:DAYLIGHT
TZOFFSETFROM:-0500
TZOFFSETTO:-0400
TZNAME:EDT
DTSTART:20250309T070000
END:DAYLIGHT
BEGIN:STANDARD
TZOFFSETFROM:-0400
TZOFFSETTO:-0500
TZNAME:EST
DTSTART:20251102T060000
END:STANDARD
BEGIN:DAYLIGHT
TZOFFSETFROM:-0500
TZOFFSETTO:-0400
TZNAME:EDT
DTSTART:20260308T070000
END:DAYLIGHT
BEGIN:STANDARD
TZOFFSETFROM:-0400
TZOFFSETTO:-0500
TZNAME:EST
DTSTART:20261101T060000
END:STANDARD
BEGIN:DAYLIGHT
TZOFFSETFROM:-0500
TZOFFSETTO:-0400
TZNAME:EDT
DTSTART:20270314T070000
END:DAYLIGHT
BEGIN:STANDARD
TZOFFSETFROM:-0400
TZOFFSETTO:-0500
TZNAME:EST
DTSTART:20271107T060000
END:STANDARD
END:VTIMEZONE
BEGIN:VTIMEZONE
TZID:UTC
BEGIN:STANDARD
TZOFFSETFROM:+0000
TZOFFSETTO:+0000
TZNAME:UTC
DTSTART:20240101T000000
END:STANDARD
END:VTIMEZONE
BEGIN:VEVENT
DTSTART;TZID=America/New_York:20260510T153000
DTEND;TZID=America/New_York:20260510T170000
DTSTAMP:20260420T034005
CREATED:20260417T234932Z
LAST-MODIFIED:20260418T181500Z
UID:478-1778427000-1778432400@www.danishsocietyma.org
SUMMARY:Lad os Mødes til Klassisk Koncert med Sarasa Ensemblet  
DESCRIPTION:Lad os mødes søndag den 10. maj og nyde klassisk musik med det dygtige Sarasa Ensemble. Der spilles stykker af den udvidede Bach familie: Wilhelm Friedemann\, Johann Benhard\, Anna Magdalena\, Carl Philipp Emanuel & Johann Sebastian Bach (https://www.sarasamusic.org/family)   \n\n\n\nBillet kan købes ved indgangen \n\n\n\nSkriv til Connie på DanishSocietyMA@gmail.com hvis du kommer
URL:https://www.danishsocietyma.org/event/lad-os-modes-til-klassisk-koncert-med-sarasa-ensemblet/
LOCATION:Follen church\, 755 Massachusetts Ave
END:VEVENT
BEGIN:VEVENT
DTSTART;TZID=America/New_York:20260430T113000
DTEND;TZID=America/New_York:20260430T150000
DTSTAMP:20260420T034005
CREATED:20260406T003906Z
LAST-MODIFIED:20260407T220608Z
UID:444-1777548600-1777561200@www.danishsocietyma.org
SUMMARY:Art in Bloom: Kom med og mød foråret på Museum of Fine Arts
DESCRIPTION:Art in Bloom er en årlig tilbagevendende markering af forårets komme hvor kreative blomsterdesignere udstiller deres blomsterfortolkninger af kunstværker. Kom med og mød andre forårsglade danskere til udstilling og frokost (tbd)! \n\n\n\nHvis I har lyst til at komme med så skriv til Connie (DanishSocietyMA@gmail.com)
URL:https://www.danishsocietyma.org/event/art-in-bloom-kom-med-og-mod-foraret-pa-museum-of-fine-arts/
LOCATION:Museum of Fine Arts\, 465 Huntington Ave\, Boston\, Massachusetts\, 02115\, United States
END:VEVENT
BEGIN:VEVENT
DTSTART;TZID=UTC:20260301T130000
DTEND;TZID=UTC:20260301T160000
DTSTAMP:20260420T034005
CREATED:20260107T213153Z
LAST-MODIFIED:20260107T213511Z
UID:260-1772370000-1772380800@www.danishsocietyma.org
SUMMARY:Fastelavn 2026
DESCRIPTION:Danish Society og Danes Worldwide inviterer igen i år til FastelavnKom med til en hyggelig eftermiddag hvor vi spiser masser af fastelavnsboller! Vi laver fastelavnsris\, leger bide til bolle\, slår katten af tønden\, og kårer kattekonge\, kattedronning og Bedste KostumeTeenagere kan vinde præmie for Flotteste FastelavnsrisVoksne og teens kan vinde præmie for Lækreste Hjemmelavede Fastelavnsboller  Vi har som altid særlige borde for:Familier med børnTeenagere – så de ikke behøver sidde sammen med deres forældre og små søskende…  Voksne og seniorer der kommer uden børn Vi har ogsåByttebord – tag endelig bøger med til bordet\, og tag helst lige så mange nye med hjem!Resourcebord med info om alle de danske foreninger og tilbud i områdetPris:  $20 for voksne\, $15 for børn op til 15 år\, gratis for børn under 2Rabat for medlemmer:  $15 for voksne\, $10 for børn op til 15 år\, gratis for børn under 2Danish Society medlemmer får $5 rabat per person til alle arrangementerVi har begrænset antal pladser\, så det er først til mølle… !Vi har brug for hjælp!Skriv til os hvis du kan komme kl. 11.30 eller 12.00\, eller hjælpe med oprydning til sidst – gratis entre for alle børn\, teens og voksne der hjælper til Festen er for danskere i hele New England\, og man behøver ikke være medlem af Danish Society eller Danes Worldwide \n\n\n\nVarme vinterhilsnerFra BestyrelsenConnie Sanchez Morillo\, Lars Rohrberg\, Christian GeelanPernille Konow\, Pia Scheffelaar\, Pernille Bengtsson\, Lotte Smith-HansenDanish Society of MassachusettsForeningen for danskere i hele New England  DanishSocietyMA.orgDanishSocietyMA@gmail.com
URL:https://www.danishsocietyma.org/event/fastelavn-2026/
LOCATION:Scandinavian Cultural Center\, 206 Waltham Street\, Newton\, MA\, 02465
END:VEVENT
BEGIN:VEVENT
DTSTART;TZID=UTC:20260124T120000
DTEND;TZID=UTC:20260124T150000
DTSTAMP:20260420T034005
CREATED:20251121T175901Z
LAST-MODIFIED:20251208T002706Z
UID:164-1769256000-1769266800@www.danishsocietyma.org
SUMMARY:Dansker Frokost i Western Mass
DESCRIPTION:Alle er velkomne! \n\n\n\nMeld dig til hos Charlotte eller bare mød opCharlotte Hansen <charlottehansen387@gmail.com>
URL:https://www.danishsocietyma.org/event/dansker-frokost-i-western-mass/
LOCATION:Restaurant 51 Park\, 51 Park Street\, Lee\, MA\, 01238
END:VEVENT
BEGIN:VEVENT
DTSTART;TZID=UTC:20260114T120000
DTEND;TZID=UTC:20260114T160000
DTSTAMP:20260420T034005
CREATED:20251121T175020Z
LAST-MODIFIED:20260129T015113Z
UID:162-1768392000-1768406400@www.danishsocietyma.org
SUMMARY:Senior Sammenskudsfrokost
DESCRIPTION:Onsdag d. 14. januar hos Connie i Sudbury\, MA.  Detaljer følger senere
URL:https://www.danishsocietyma.org/event/senior-sammenskudsfrokost/
LOCATION:sudbury\, ma\, Sudbury\, Massachusetts\, 01776\, United States
END:VEVENT
BEGIN:VEVENT
DTSTART;TZID=UTC:20251214T133000
DTEND;TZID=UTC:20251214T170000
DTSTAMP:20260420T034005
CREATED:20251120T224550Z
LAST-MODIFIED:20260407T002759Z
UID:143-1765719000-1765731600@www.danishsocietyma.org
SUMMARY:Julehygge for hele Familien 2025
DESCRIPTION:Kom med til en dejlig eftermiddag hvor vi hygger med gløgg\, æbleskiver\, kaffe og kringle \n\n\n\nLav julepynt ved klippe-klisterbordet – måske et kræmmerhus eller et julehjerte!  \n\n\n\n\n\nAktiviteter: Sanglege for børnene \n\n\n\nSærlige aktiviteter for teenagerne – måske jule-kahoot? Besøg af Julemanden\, der har godteposer med Fællessang\, både de gammeldags og de sjove for børn! \n\n\n\nPris:  $20 for voksne\, $15 for børn op til 15 år\, gratis for børn under 2 \n\n\n\nRabat for medlemmer:  $15 for voksne\, $10 for børn op til 15 år\, gratis for børn under 2 \n\n\n\nDanish Society medlemmer får $5 rabat per person til alle arrangementer  \n\n\n\nVi har begrænset antal pladser\, så det er først til mølle… !  \n\n\n\nNyt i år: Mød personalet fra det danske konsulat og Borgerservice i Boston! \n\n\n\nVi gentager successen med særlige borde for  \n\n\n\nFamilier med børn \n\n\n\nTeenagere – så de ikke behøver sidde sammen med deres forældre og små søskende…  🙂  \n\n\n\nVoksne/seniorer der kommer uden børn \n\n\n\nVi har som altid…Byttebord – tag endelig bøger til børn og voksne med\, plus ubrugt julepynt i god stand som andre kunne få glæde afResourcebord – info om alle de danske foreninger og tilbud i området \n\n\n\nVi har brug for hjælp!Sig til hvis du kan bage æbleskiver eller lave gløgg inden festen og/eller komme kl. 12  Vi har også brug for hjælpere til oprydning fra 16 til 17 \n\n\n\nMeld dig som hjælper ved at skrive til emailen nedenfor – gratis entre for alle børn og voksne der hjælper til \n\n\n\nJulefesten er for danskere i hele New England\, og man behøver ikke være medlem af Danish Society eller Danes Worldwide \n\n\n\nSpørgsmål?  Skriv til os på DanishSocietyMA@gmail.com \n\n\n\nVarme julehilsnerConnie\, Lars\, ChristianPernille K\, Pia\, Pernille B og Lotte \n\n\n\nDanish Society of MassachusettsForeningen for danskere i hele New England    \n\n\n\nENGLISH:  \n\n\n\nCome join us for a cozy afternoon where we’ll enjoy mulled wine\, fried dough (æbleskiver)\, coffee and pastries (kringle)   \n\n\n\nMake Christmas decorations at the craft table\, including the ones you know from childhood! \n\n\n\nActivities:Singing games for the kids \n\n\n\nSpecial activities for the teens – maybe Christmas kahoot?   Visit from Santa Claus who’s bringing goodie bags Sing-alongs\, both the old-fashioned and the fun ones for children! \n\n\n\nPrice:$20 for adults\, $15 for children up to 15 years old\, free for children under 2 \n\n\n\nMember discount:$15 for adults\, $10 for children up to 15 years old\, free for children under 2Danish Society members get a $5 discount per person for all events \n\n\n\nWe have a limited number of seats\, so first come first served… !  \n\n\n\nNew this year: Meet the staff from the Danish Consulate and Citizens Service in Boston! \n\n\n\nWe’ll repeat the success with special tables for Families with kidsTeenagers – so they don’t have to sit with their parents and little siblings… 🙂Adults/seniors who come without kids \n\n\n\nAs always\, we’ll have…Book Swap table – please bring books for children and adults Resource table – info about all the Danish groups and activities in the area \n\n\n\nWe need help! \n\n\n\nLet us know if you can bake æbleskiver or make mulled wine before the party and/or come at 12 noonWe also need helpers for cleanup from 4 to 5 pmSign up as a helper with a message to the email below – free admission for all kids and adults who help out \n\n\n\nThe Christmas party is for Danes throughout New England\, and you do not need to be a member of the Danish Society or Danes Worldwide \n\n\n\nQuestions?DanishSocietyMA@gmail.com \n\n\n\nWarm Christmas greetingsConnie\, Lars\, ChristianPernille K\, Pia\, Pernille B and LotteDanish Society of MassachusettsThe Association for Danes throughout New England \n\n\n\n\nTilmeld / Register
URL:https://www.danishsocietyma.org/event/julehygge-for-hele-familien-2025/
LOCATION:Scandinavian Cultural Center\, 206 Waltham Street\, Newton\, MA\, 02465
ATTACH;FMTTYPE=image/jpeg:https://www.danishsocietyma.org/wp-content/uploads/2025/11/julehygge.jpg
END:VEVENT
BEGIN:VEVENT
DTSTART;TZID=UTC:20251207T100000
DTEND;TZID=UTC:20251207T120000
DTSTAMP:20260420T034005
CREATED:20251202T211536Z
LAST-MODIFIED:20251205T081156Z
UID:184-1765101600-1765108800@www.danishsocietyma.org
SUMMARY:Lad os mødes på en legeplads
DESCRIPTION:Vi ses på:  \n\n\n\nPayson Park Playground\, 288 Payson Rd\, Belmont\, MA 02478  \n\n\n\nNyrenoveret legeplads\, stor græsplæne\, gode klatretræer\, masser af gratis street parking \n\n\n\nBørn i alle aldre er velkomne til at komme og lege med andre danske børnJeg har to børn på 2 år og 8 år.  Håber vi ses!   \n\n\n\nMike\, Rosemary\, Amber og Annika
URL:https://www.danishsocietyma.org/event/lad-os-modes-pa-en-legeplads/
LOCATION:Payson Park Playground\, 288 Payson Rd\, Belmont\, Massachusetts\, 02478
ORGANIZER;CN="Mike Alex Andersen":MAILTO:mike.alexandersen@gmail.com
END:VEVENT
END:VCALENDAR